BEGIN:VCALENDAR
VERSION:2.0
PRODID:-//South Central CASC - ECPv6.15.20//NONSGML v1.0//EN
CALSCALE:GREGORIAN
METHOD:PUBLISH
X-WR-CALNAME:South Central CASC
X-ORIGINAL-URL:https://southcentralclimate.org
X-WR-CALDESC:Events for South Central CASC
REFRESH-INTERVAL;VALUE=DURATION:PT1H
X-Robots-Tag:noindex
X-PUBLISHED-TTL:PT1H
BEGIN:VTIMEZONE
TZID:America/Denver
BEGIN:DAYLIGHT
TZOFFSETFROM:-0700
TZOFFSETTO:-0600
TZNAME:MDT
DTSTART:20230312T090000
END:DAYLIGHT
BEGIN:STANDARD
TZOFFSETFROM:-0600
TZOFFSETTO:-0700
TZNAME:MST
DTSTART:20231105T080000
END:STANDARD
BEGIN:DAYLIGHT
TZOFFSETFROM:-0700
TZOFFSETTO:-0600
TZNAME:MDT
DTSTART:20240310T090000
END:DAYLIGHT
BEGIN:STANDARD
TZOFFSETFROM:-0600
TZOFFSETTO:-0700
TZNAME:MST
DTSTART:20241103T080000
END:STANDARD
BEGIN:DAYLIGHT
TZOFFSETFROM:-0700
TZOFFSETTO:-0600
TZNAME:MDT
DTSTART:20250309T090000
END:DAYLIGHT
BEGIN:STANDARD
TZOFFSETFROM:-0600
TZOFFSETTO:-0700
TZNAME:MST
DTSTART:20251102T080000
END:STANDARD
END:VTIMEZONE
BEGIN:VTIMEZONE
TZID:America/Chicago
BEGIN:DAYLIGHT
TZOFFSETFROM:-0600
TZOFFSETTO:-0500
TZNAME:CDT
DTSTART:20230312T080000
END:DAYLIGHT
BEGIN:STANDARD
TZOFFSETFROM:-0500
TZOFFSETTO:-0600
TZNAME:CST
DTSTART:20231105T070000
END:STANDARD
BEGIN:DAYLIGHT
TZOFFSETFROM:-0600
TZOFFSETTO:-0500
TZNAME:CDT
DTSTART:20240310T080000
END:DAYLIGHT
BEGIN:STANDARD
TZOFFSETFROM:-0500
TZOFFSETTO:-0600
TZNAME:CST
DTSTART:20241103T070000
END:STANDARD
BEGIN:DAYLIGHT
TZOFFSETFROM:-0600
TZOFFSETTO:-0500
TZNAME:CDT
DTSTART:20250309T080000
END:DAYLIGHT
BEGIN:STANDARD
TZOFFSETFROM:-0500
TZOFFSETTO:-0600
TZNAME:CST
DTSTART:20251102T070000
END:STANDARD
END:VTIMEZONE
BEGIN:VEVENT
DTSTART;TZID=America/Denver:20241002T173000
DTEND;TZID=America/Denver:20241002T183000
DTSTAMP:20260422T010824
CREATED:20240930T212020Z
LAST-MODIFIED:20240930T212127Z
UID:10262-1727890200-1727893800@southcentralclimate.org
SUMMARY:Transformers: Age of Adaptation (In-Person\, New Mexico)
DESCRIPTION:Intermountain West Transformation Network – Wildfire & Watershed Symposium \nLaura-McCarthy-Keynote
URL:https://southcentralclimate.org/event/transformers-age-of-adaptation-in-person-new-mexico/
END:VEVENT
BEGIN:VEVENT
DTSTART;TZID=America/Chicago:20241026T100000
DTEND;TZID=America/Chicago:20241026T140000
DTSTAMP:20260422T010824
CREATED:20240904T201059Z
LAST-MODIFIED:20240904T201059Z
UID:10158-1729936800-1729951200@southcentralclimate.org
SUMMARY:National Weather Festival
DESCRIPTION:Join us as we host a booth for the 2024 National Weather Festival on the University of Oklahoma Research Campus. \nOctober 26\, 2024\, from 10 am – 2 pm at the National Weather Center
URL:https://southcentralclimate.org/event/national-weather-festival/
ATTACH;FMTTYPE=image/png:https://southcentralclimate.org/wp-content/uploads/2024/09/NWF2024.png
END:VEVENT
BEGIN:VEVENT
DTSTART;TZID=America/Chicago:20241030T080000
DTEND;TZID=America/Chicago:20241030T170000
DTSTAMP:20260422T010824
CREATED:20240815T210759Z
LAST-MODIFIED:20240815T211819Z
UID:10076-1730275200-1730307600@southcentralclimate.org
SUMMARY:Climate Vulnerability Workshop
DESCRIPTION:Join the South Central Climate Adaptation Science Center for a one-day Climate Vulnerability Assessment Workshop on Wednesday\, October 30\, 2024\, in Shawnee\, OK. \nTRAVEL ASSISTANCE is AVAILABLE \nLearn more and register today! \nA vulnerability assessment is one of the first steps in developing a climate adaptation plan. We will cover basics on how to start a vulnerability assessment; types of vulnerability assessments\, various sectors (i.e.\, natural resources\, culturally significant animals or plants\, or infrastructure) and approaches that can be used to develop a vulnerability assessment. There will be a presentation on where to find tools that can help a Tribe or community to gather data and options to find projections for your Tribal region. We will use that information to qualitatively measure Exposure\, Sensitivity\, and Adaptive Capacity.  \n \nCitizen Potawatomi South Hall \n1702 Gordon Cooper Dr. \nShawnee\, OK 74801
URL:https://southcentralclimate.org/event/climate-vulnerability-workshop/
ATTACH;FMTTYPE=image/png:https://southcentralclimate.org/wp-content/uploads/2024/08/Climate-Vulnerability-Workshop-Register-Online-1.png
END:VEVENT
END:VCALENDAR