BEGIN:VCALENDAR
VERSION:2.0
PRODID:-//South Central CASC - ECPv6.15.20//NONSGML v1.0//EN
CALSCALE:GREGORIAN
METHOD:PUBLISH
X-ORIGINAL-URL:https://southcentralclimate.org
X-WR-CALDESC:Events for South Central CASC
REFRESH-INTERVAL;VALUE=DURATION:PT1H
X-Robots-Tag:noindex
X-PUBLISHED-TTL:PT1H
BEGIN:VTIMEZONE
TZID:America/Chicago
BEGIN:DAYLIGHT
TZOFFSETFROM:-0600
TZOFFSETTO:-0500
TZNAME:CDT
DTSTART:20230312T080000
END:DAYLIGHT
BEGIN:STANDARD
TZOFFSETFROM:-0500
TZOFFSETTO:-0600
TZNAME:CST
DTSTART:20231105T070000
END:STANDARD
BEGIN:DAYLIGHT
TZOFFSETFROM:-0600
TZOFFSETTO:-0500
TZNAME:CDT
DTSTART:20240310T080000
END:DAYLIGHT
BEGIN:STANDARD
TZOFFSETFROM:-0500
TZOFFSETTO:-0600
TZNAME:CST
DTSTART:20241103T070000
END:STANDARD
BEGIN:DAYLIGHT
TZOFFSETFROM:-0600
TZOFFSETTO:-0500
TZNAME:CDT
DTSTART:20250309T080000
END:DAYLIGHT
BEGIN:STANDARD
TZOFFSETFROM:-0500
TZOFFSETTO:-0600
TZNAME:CST
DTSTART:20251102T070000
END:STANDARD
END:VTIMEZONE
BEGIN:VTIMEZONE
TZID:America/Denver
BEGIN:DAYLIGHT
TZOFFSETFROM:-0700
TZOFFSETTO:-0600
TZNAME:MDT
DTSTART:20230312T090000
END:DAYLIGHT
BEGIN:STANDARD
TZOFFSETFROM:-0600
TZOFFSETTO:-0700
TZNAME:MST
DTSTART:20231105T080000
END:STANDARD
BEGIN:DAYLIGHT
TZOFFSETFROM:-0700
TZOFFSETTO:-0600
TZNAME:MDT
DTSTART:20240310T090000
END:DAYLIGHT
BEGIN:STANDARD
TZOFFSETFROM:-0600
TZOFFSETTO:-0700
TZNAME:MST
DTSTART:20241103T080000
END:STANDARD
BEGIN:DAYLIGHT
TZOFFSETFROM:-0700
TZOFFSETTO:-0600
TZNAME:MDT
DTSTART:20250309T090000
END:DAYLIGHT
BEGIN:STANDARD
TZOFFSETFROM:-0600
TZOFFSETTO:-0700
TZNAME:MST
DTSTART:20251102T080000
END:STANDARD
END:VTIMEZONE
BEGIN:VEVENT
DTSTART;VALUE=DATE:20240401
DTEND;VALUE=DATE:20240504
DTSTAMP:20260421T203014
CREATED:20240223T164346Z
LAST-MODIFIED:20240223T164346Z
UID:9730-1711929600-1714780799@southcentralclimate.org
SUMMARY:Managing for a Changing Climate Short Course: Deeper Dive
DESCRIPTION:Register now for a Deeper Dive into Vulnerability and the Climate System. \nThis short course is free\, self-paced\, an opportunity to learn directly from climate experts\, and a certificate of completion is offered upon completion. \nThe course will run from April 1st to May 3rd. No previous enrollment in our introductory course is required\, though it may be helpful if you are not already familiar with the basics of the climate system.
URL:https://southcentralclimate.org/event/managing-for-a-changing-climate-short-course-deeper-dive/
ATTACH;FMTTYPE=image/png:https://southcentralclimate.org/wp-content/uploads/2024/02/MCC-Deeper-Dive-Course.png
END:VEVENT
BEGIN:VEVENT
DTSTART;VALUE=DATE:20240520
DTEND;VALUE=DATE:20240523
DTSTAMP:20260421T203014
CREATED:20230427T151818Z
LAST-MODIFIED:20240313T172227Z
UID:8533-1716163200-1716422399@southcentralclimate.org
SUMMARY:Climate Change Adaptation for Tribes and Tribal Partner Training Opportunity
DESCRIPTION:Registration is now open! \nMay 20-22\, 2024 in Sulphur\, OK. \nClimate Change Adaptation for Tribes and Tribal Partners Training Opportunity. \nThe goals of this workshop are to: \n\nLearn how to use the tribal adaptation menu (TAM) process to develop projects.\nLearn how tribes are being impacted by climate change.\nUse the menu framework to integrate climate and identify adaptation options.\n\nThis three-day workshop will be held at the Chickasaw Retreat and Conference Center in Sulphur\, OK. Please reach out to Amelia Cook\, amelia.cook@chickasaw.net\, for more information. \nIn addition to the in-person portion of the event\, there will also be a mandatory pre-workshop virtual webinar. \nRegistration is due by April 22!
URL:https://southcentralclimate.org/event/tribal-adaptation-menu-workshop/
LOCATION:The Chickasaw Nation Retreat and Conference Center\, 4205 Goddard Youth Camp Road\, Sulphur\, OK\, 73086\, United States
END:VEVENT
BEGIN:VEVENT
DTSTART;TZID=America/Denver:20240522T080000
DTEND;TZID=America/Denver:20240523T160000
DTSTAMP:20260421T203014
CREATED:20240208T215532Z
LAST-MODIFIED:20240208T215532Z
UID:9691-1716364800-1716480000@southcentralclimate.org
SUMMARY:Tribal Drought Workshop (Free)
DESCRIPTION:Join us on May 22nd-23rd at the Southwestern Indian Polytechnic Institute in Albuquerque! (And online May 8th) \n\nParticipants are encouraged to register with teams (1-5 People) of relevant collaboration. (Ex. Tribal Environmental\, Natural Resource Management\, and Water Staff) You will work with these teams during discussion periods and be paired with other teams with similar interests for networking purposes!\n\n\nIn addition to the in-person event on May 22nd and 23rd there is a mandatory pre-workshop webinar planned for May 8th from 10am – 11:30am MST intended as a discussion primer.\n\n\nApplications are DUE April 10th\, 2024!\nContact Jacob.P.Palazzi-1@ou.edu with any questions!
URL:https://southcentralclimate.org/event/tribal-drought-workshop-free/
ATTACH;FMTTYPE=image/jpeg:https://southcentralclimate.org/wp-content/uploads/2024/02/Drought-Registration-Flyer.jpg
END:VEVENT
END:VCALENDAR