BEGIN:VCALENDAR
VERSION:2.0
PRODID:-//South Central CASC - ECPv6.15.20//NONSGML v1.0//EN
CALSCALE:GREGORIAN
METHOD:PUBLISH
X-WR-CALNAME:South Central CASC
X-ORIGINAL-URL:https://southcentralclimate.org
X-WR-CALDESC:Events for South Central CASC
REFRESH-INTERVAL;VALUE=DURATION:PT1H
X-Robots-Tag:noindex
X-PUBLISHED-TTL:PT1H
BEGIN:VTIMEZONE
TZID:America/Chicago
BEGIN:DAYLIGHT
TZOFFSETFROM:-0600
TZOFFSETTO:-0500
TZNAME:CDT
DTSTART:20220313T080000
END:DAYLIGHT
BEGIN:STANDARD
TZOFFSETFROM:-0500
TZOFFSETTO:-0600
TZNAME:CST
DTSTART:20221106T070000
END:STANDARD
BEGIN:DAYLIGHT
TZOFFSETFROM:-0600
TZOFFSETTO:-0500
TZNAME:CDT
DTSTART:20230312T080000
END:DAYLIGHT
BEGIN:STANDARD
TZOFFSETFROM:-0500
TZOFFSETTO:-0600
TZNAME:CST
DTSTART:20231105T070000
END:STANDARD
BEGIN:DAYLIGHT
TZOFFSETFROM:-0600
TZOFFSETTO:-0500
TZNAME:CDT
DTSTART:20240310T080000
END:DAYLIGHT
BEGIN:STANDARD
TZOFFSETFROM:-0500
TZOFFSETTO:-0600
TZNAME:CST
DTSTART:20241103T070000
END:STANDARD
END:VTIMEZONE
BEGIN:VEVENT
DTSTART;VALUE=DATE:20230201
DTEND;VALUE=DATE:20230323
DTSTAMP:20260421T091045
CREATED:20221212T195917Z
LAST-MODIFIED:20221212T203120Z
UID:8077-1675209600-1679529599@southcentralclimate.org
SUMMARY:Climate Change and Human Health Webinar Series
DESCRIPTION:Climate Change and Human Health Project Echo\nThis series on Sustainability in Healthcare starts February 1 and runs each Wednesday through March 22 at 1pm central. \nRegister here\n\nCCHH_sustainability_flyer_12.6.22
URL:https://southcentralclimate.org/event/8077/
END:VEVENT
BEGIN:VEVENT
DTSTART;VALUE=DATE:20230301
DTEND;VALUE=DATE:20230303
DTSTAMP:20260421T091045
CREATED:20230216T171654Z
LAST-MODIFIED:20230216T171714Z
UID:8357-1677628800-1677801599@southcentralclimate.org
SUMMARY:National Nature Assessment Public Input Forum
DESCRIPTION:The US Global Change Research Program is preparing to launch a nationwide assessment of the state of lands\, waters\, and wildlife and how they affect our lives. They would like your input on how to do it. \nThere are two Public Input Forums coming up where you can hear about the program and help shape this important assessment. \nOn the OU Campus March 1 from 10a-11:30a \niHub Building (a.k.a. Partners Place Three): 201 David L. Boren Blvd.\, Room 132\, Norman\, OK \nOn the OSU Campus March 2 from 2:30p-4p \nStudent Union Meeting & Conference: 416 Student Union\, Stillwater\, OK
URL:https://southcentralclimate.org/event/national-nature-assessment-public-input-forum/
ATTACH;FMTTYPE=image/jpeg:https://southcentralclimate.org/wp-content/uploads/2023/02/National-Nature-Assessment.jpg
END:VEVENT
BEGIN:VEVENT
DTSTART;TZID=America/Chicago:20230302T140000
DTEND;TZID=America/Chicago:20230302T150000
DTSTAMP:20260421T091045
CREATED:20230203T143302Z
LAST-MODIFIED:20230203T143337Z
UID:8299-1677765600-1677769200@southcentralclimate.org
SUMMARY:Earth to Sky (ETS) Climate Conversations
DESCRIPTION:Register today! https://earthtosky.org/events/climate-conversations.html \nPlease join Earth to Sky for a monthly series of informal community conversations! Bring your coworker\, your supervisor\, your friend\, and your cat to dive deep into discussions at the intersections of climate change\, current events\, and communication techniques
URL:https://southcentralclimate.org/event/earth-to-sky-ets-climate-conversations/
END:VEVENT
BEGIN:VEVENT
DTSTART;VALUE=DATE:20230306
DTEND;VALUE=DATE:20230310
DTSTAMP:20260421T091045
CREATED:20230302T151831Z
LAST-MODIFIED:20230302T152306Z
UID:8420-1678060800-1678406399@southcentralclimate.org
SUMMARY:Bridging the Gap Meeting
DESCRIPTION:22nd Annual Bridging the Gap Meeting\, co-hosted by the Quapaw Nation and the USDA Forest Service. \nTheme: Demystifying Consultation \nMarch 6-8\, 2023 at the Downstream Casino Resort \n69300 E Nee Road\, Quapaw\, OK\, 74363 \nRegister today! 
URL:https://southcentralclimate.org/event/bridging-the-gap-meeting/
ATTACH;FMTTYPE=image/jpeg:https://southcentralclimate.org/wp-content/uploads/2023/03/save-date-final.jpg
END:VEVENT
BEGIN:VEVENT
DTSTART;TZID=America/Chicago:20230317T140000
DTEND;TZID=America/Chicago:20230317T150000
DTSTAMP:20260421T091045
CREATED:20230203T143923Z
LAST-MODIFIED:20230203T143923Z
UID:8305-1679061600-1679065200@southcentralclimate.org
SUMMARY:Earth to Sky - Climate in Your Pocket
DESCRIPTION:What notes and tools do you keep in your back pocket for unexpected questions? This series of mini-webinars offers bite-sized resources for fueling and supporting your conversations\, programs\, and climate communication products every day. Webinars are just 30 minutes long\, with the remainder of the hour devoted to Q&A and a community discussion about the topic and resources. \nRegister today! https://earthtosky.org/events/climate-in-your-pocket.html
URL:https://southcentralclimate.org/event/earth-to-sky-climate-in-your-pocket-2/
END:VEVENT
BEGIN:VEVENT
DTSTART;VALUE=DATE:20230328
DTEND;VALUE=DATE:20230330
DTSTAMP:20260421T091045
CREATED:20230301T205227Z
LAST-MODIFIED:20230301T205227Z
UID:8418-1679961600-1680134399@southcentralclimate.org
SUMMARY:Introduction to using climate modeling for forest management
DESCRIPTION:This virtual workshop is open to natural and cultural resource managers\, especially in Tribal Nations and the southern US\, and others who want a primer on climate modeling and using data tools for management. \nThis event will be held online from 8-11 am central on both March 28th and 29th. \nRegistration is now open! Spots are limited\, so sign up today! \nHosted by:\nUS Forest Service\nSouth Central Climate Adaptation Science Center\nSoutheast Climate Adaptation Science Center\nUnited South and Eastern Tribes\, Inc.
URL:https://southcentralclimate.org/event/introduction-to-using-climate-modeling-for-forest-management/
ATTACH;FMTTYPE=image/png:https://southcentralclimate.org/wp-content/uploads/2023/03/March2023Webinar-withURL.png
END:VEVENT
BEGIN:VEVENT
DTSTART;TZID=America/Chicago:20230330T110000
DTEND;TZID=America/Chicago:20230330T120000
DTSTAMP:20260421T091045
CREATED:20230309T161328Z
LAST-MODIFIED:20230309T161328Z
UID:8427-1680174000-1680177600@southcentralclimate.org
SUMMARY:Wildland Fire: The Future of Fire Under a Changing Climate
DESCRIPTION:The Southern Plains Climate Science Webinar Series Presents: Wildland Fire: The Future of Fire Under a Changing Climate \nIs prescribed burning an interest to you? \n\n\nPrescribed fire provides a valuable option for land managers to conduct cost-effective habitat management\, invasive species control\, and restoration. Fire practitioners\, either acting individually or with a network\, have a huge impact on the results of an operation. Understanding how the arrangement and placements of individual actors influence the results may be helpful for networks that seek to improve the performance of prescribed fire operations. \n\n\n\n\nJoin us on March 30\, 2023\, at 11:00 AM CT\, to hear from Climate Adaptation Postdoctoral Fellow Dr. Aaron Russell about the interesting results of this comparative analysis of prescribed fire practitioner networks in Oklahoma and North Carolina. \n\n\n\nRegister in advance for this meeting: \nhttps://oklahoma.zoom.us/meeting/register/tJUudOusrzguEtdTriLAGOsicedNi65cbHOV
URL:https://southcentralclimate.org/event/wildland-fire-the-future-of-fire-under-a-changing-climate/
ATTACH;FMTTYPE=image/png:https://southcentralclimate.org/wp-content/uploads/2023/03/Future-of-Fire-Webinar-Aaron-Russell.png
END:VEVENT
END:VCALENDAR