BEGIN:VCALENDAR
VERSION:2.0
PRODID:-//South Central CASC - ECPv6.15.20//NONSGML v1.0//EN
CALSCALE:GREGORIAN
METHOD:PUBLISH
X-ORIGINAL-URL:https://southcentralclimate.org
X-WR-CALDESC:Events for South Central CASC
REFRESH-INTERVAL;VALUE=DURATION:PT1H
X-Robots-Tag:noindex
X-PUBLISHED-TTL:PT1H
BEGIN:VTIMEZONE
TZID:America/Chicago
BEGIN:DAYLIGHT
TZOFFSETFROM:-0600
TZOFFSETTO:-0500
TZNAME:CDT
DTSTART:20220313T080000
END:DAYLIGHT
BEGIN:STANDARD
TZOFFSETFROM:-0500
TZOFFSETTO:-0600
TZNAME:CST
DTSTART:20221106T070000
END:STANDARD
BEGIN:DAYLIGHT
TZOFFSETFROM:-0600
TZOFFSETTO:-0500
TZNAME:CDT
DTSTART:20230312T080000
END:DAYLIGHT
BEGIN:STANDARD
TZOFFSETFROM:-0500
TZOFFSETTO:-0600
TZNAME:CST
DTSTART:20231105T070000
END:STANDARD
BEGIN:DAYLIGHT
TZOFFSETFROM:-0600
TZOFFSETTO:-0500
TZNAME:CDT
DTSTART:20240310T080000
END:DAYLIGHT
BEGIN:STANDARD
TZOFFSETFROM:-0500
TZOFFSETTO:-0600
TZNAME:CST
DTSTART:20241103T070000
END:STANDARD
END:VTIMEZONE
BEGIN:VEVENT
DTSTART;VALUE=DATE:20230201
DTEND;VALUE=DATE:20230323
DTSTAMP:20260421T121508
CREATED:20221212T195917Z
LAST-MODIFIED:20221212T203120Z
UID:8077-1675209600-1679529599@southcentralclimate.org
SUMMARY:Climate Change and Human Health Webinar Series
DESCRIPTION:Climate Change and Human Health Project Echo\nThis series on Sustainability in Healthcare starts February 1 and runs each Wednesday through March 22 at 1pm central. \nRegister here\n\nCCHH_sustainability_flyer_12.6.22
URL:https://southcentralclimate.org/event/8077/
END:VEVENT
BEGIN:VEVENT
DTSTART;TZID=America/Chicago:20230202T140000
DTEND;TZID=America/Chicago:20230202T150000
DTSTAMP:20260421T121508
CREATED:20230126T165500Z
LAST-MODIFIED:20230126T165500Z
UID:8259-1675346400-1675350000@southcentralclimate.org
SUMMARY:Earth to Sky Climate Conversations
DESCRIPTION:In this next installment\, we will have a dialogue about how\, and if\, you and your staff\, are integrating climate science and messages into your existing exhibits\, publications\, and programs – in micro-doses – to tell your climate stories.  \nRegister today! https://earthtosky.org/events/climate-conversations.html
URL:https://southcentralclimate.org/event/earth-to-sky-climate-conversations/
END:VEVENT
BEGIN:VEVENT
DTSTART;VALUE=DATE:20230214
DTEND;VALUE=DATE:20230216
DTSTAMP:20260421T121508
CREATED:20230209T210943Z
LAST-MODIFIED:20230210T221335Z
UID:8333-1676332800-1676505599@southcentralclimate.org
SUMMARY:5th Annual Soil Health Symposium
DESCRIPTION:Unlock the secrets of regenerative farming at the 5th Annual Soil Health Symposium\, February 14-15\, 2023 at the Overton Hotel in Lubbock\, Texas. \nJohn Zak is the PI at Texas Tech University for the South Central CASC Consortium. \nRegistration is available online or at the door. For more information head over to the website. \nFebruary 14th:\nRegistration\, Speakers\, Trade Show\, Demonstrations\, Lunch\, and Happy Hour \nFebruary 15th:\nSpeakers\, Trade Show\, Lunch\, and Panel Discussions.
URL:https://southcentralclimate.org/event/5th-annual-soil-health-symposium/
ATTACH;FMTTYPE=image/png:https://southcentralclimate.org/wp-content/uploads/2023/02/Soil-3.png
END:VEVENT
BEGIN:VEVENT
DTSTART;TZID=America/Chicago:20230217T150000
DTEND;TZID=America/Chicago:20230217T160000
DTSTAMP:20260421T121508
CREATED:20230203T143543Z
LAST-MODIFIED:20230203T143543Z
UID:8302-1676646000-1676649600@southcentralclimate.org
SUMMARY:Earth to Sky - Climate in Your Pocket
DESCRIPTION:https://earthtosky.org/events/climate-in-your-pocket.html \nThe special guest speaker will be Ed Maibach\, George Mason University\, talking about their Climate Change and the American Mind project. \nWhat notes and tools do you keep in your back pocket for unexpected questions? This series of mini-webinars offers bite-sized resources for fueling and supporting your conversations\, programs\, and climate communication products every day. Webinars are just 30 minutes long\, with the remainder of the hour devoted to Q&A and a community discussion about the topic and resources.
URL:https://southcentralclimate.org/event/earth-to-sky-climate-in-your-pocket/
END:VEVENT
BEGIN:VEVENT
DTSTART;TZID=America/Chicago:20230218T130000
DTEND;TZID=America/Chicago:20230218T150000
DTSTAMP:20260421T121508
CREATED:20230104T170559Z
LAST-MODIFIED:20230104T170559Z
UID:8190-1676725200-1676732400@southcentralclimate.org
SUMMARY:NASA OKSG Community STEM Engagement Event
DESCRIPTION:A free community event hosted by the NASA Oklahoma Space Grant Consortium with over 10 hands-on STEM booths demonstrating current NASA missions. Families will be able to take most of their activities home (bags will be provided). NASA prizes will be given to those who complete the activities\, and door prizes will be drawn throughout the event! \nSaturday February 18 from 1-3pm at the Endeavor Lab on the Oklahoma State Campus. \n215 N. Hester St.\, Stillwater\, OK 74078
URL:https://southcentralclimate.org/event/nasa-oksg-community-stem-engagement-event/
LOCATION:Endeavor Lab\, 215 N. Hester St.\, Stillwater\, OK\, 74078\, United States
ATTACH;FMTTYPE=image/png:https://southcentralclimate.org/wp-content/uploads/2023/01/Community-Stem-Engagement-Flyer82.png
ORGANIZER;CN="NASA Oklahoma Space Grant Consortium":MAILTO:dorinda.risenhoover@okstate.edu
END:VEVENT
BEGIN:VEVENT
DTSTART;TZID=America/Chicago:20230225T090000
DTEND;TZID=America/Chicago:20230225T160000
DTSTAMP:20260421T121508
CREATED:20221212T203029Z
LAST-MODIFIED:20230126T165037Z
UID:8080-1677315600-1677340800@southcentralclimate.org
SUMMARY:Oklahoma Environmental Education Summit
DESCRIPTION:Join EcoRise\, KidWind\, Oklahoma Project Learning Tree\, and the Oklahoma Green School Program for a day of inspiration and learning. \nSaturday February 25\, 2023\, 9a-4p central. Oklahoma Memorial Union (OU Campus) 900 Asp Ave\, Norman\, OK\, 73019 \nDetails and registration information can be found here.
URL:https://southcentralclimate.org/event/oklahoma-environmental-education-summit/
ATTACH;FMTTYPE=image/png:https://southcentralclimate.org/wp-content/uploads/2022/12/EE-Summit.png
END:VEVENT
END:VCALENDAR