BEGIN:VCALENDAR
VERSION:2.0
PRODID:-//South Central CASC - ECPv6.15.20//NONSGML v1.0//EN
CALSCALE:GREGORIAN
METHOD:PUBLISH
X-ORIGINAL-URL:https://southcentralclimate.org
X-WR-CALDESC:Events for South Central CASC
REFRESH-INTERVAL;VALUE=DURATION:PT1H
X-Robots-Tag:noindex
X-PUBLISHED-TTL:PT1H
BEGIN:VTIMEZONE
TZID:America/Chicago
BEGIN:DAYLIGHT
TZOFFSETFROM:-0600
TZOFFSETTO:-0500
TZNAME:CDT
DTSTART:20210314T080000
END:DAYLIGHT
BEGIN:STANDARD
TZOFFSETFROM:-0500
TZOFFSETTO:-0600
TZNAME:CST
DTSTART:20211107T070000
END:STANDARD
BEGIN:DAYLIGHT
TZOFFSETFROM:-0600
TZOFFSETTO:-0500
TZNAME:CDT
DTSTART:20220313T080000
END:DAYLIGHT
BEGIN:STANDARD
TZOFFSETFROM:-0500
TZOFFSETTO:-0600
TZNAME:CST
DTSTART:20221106T070000
END:STANDARD
BEGIN:DAYLIGHT
TZOFFSETFROM:-0600
TZOFFSETTO:-0500
TZNAME:CDT
DTSTART:20230312T080000
END:DAYLIGHT
BEGIN:STANDARD
TZOFFSETFROM:-0500
TZOFFSETTO:-0600
TZNAME:CST
DTSTART:20231105T070000
END:STANDARD
END:VTIMEZONE
BEGIN:VEVENT
DTSTART;VALUE=DATE:20221108
DTEND;VALUE=DATE:20221110
DTSTAMP:20260421T151239
CREATED:20220930T210714Z
LAST-MODIFIED:20220930T210753Z
UID:7921-1667865600-1668038399@southcentralclimate.org
SUMMARY:Oka' 2022 Sustainability Conference
DESCRIPTION:Join us on November 8th and 9th\nThe Oka’ Water Sustainability Conference hosts top leaders\, scientists\, and stakeholders\, with presentations\, panels\, and an immersive dinner. \nClick here to learn more and to register: https://lnkd.in/gdq9g8bA
URL:https://southcentralclimate.org/event/oka-2022-sustainability-conference/
ATTACH;FMTTYPE=image/png:https://southcentralclimate.org/wp-content/uploads/2022/09/OKASustainabilityConference.png
END:VEVENT
BEGIN:VEVENT
DTSTART;VALUE=DATE:20221109
DTEND;VALUE=DATE:20221112
DTSTAMP:20260421T151239
CREATED:20220518T212125Z
LAST-MODIFIED:20221102T210437Z
UID:7416-1667952000-1668211199@southcentralclimate.org
SUMMARY:2022 Fall Science Meeting
DESCRIPTION:REGISTER TODAY!\nThe South Central CASC is excited to once again host our Fall Science Meeting! This year\, the meeting will have a hybrid format with in-person and virtual options. The meeting is open to individuals interested in climate change science and adaptation. This year’s meeting will emphasize partnerships between scientists and resource managers. There will be a special focus on how to market your science\, including a poster session designed to showcase your work and network with other attendees. This is an excellent opportunity to display the amazing work you have done and connect with others! While you’re there\, enjoy a field trip to the Center for River Studies and indulge in amazing Louisiana food! See below for more information\, including a draft agenda and the meeting flyer. \nInterested in sharing your research at our poster session? Apply when you register! \nNovember 9\, 10\, and 11th\, 2022 \nHybrid Event – In-person at LSU with Virtual Options. \nRegister Here by Oct 31*!\n*Applicants wishing to submit their abstract for consideration in the poster session\, must do so by Sept 30th.\nEvent flyer: https://southcentralclimate.org/wp-content/uploads/2022/05/Fall-Science-Meeting-Flyer.pdf  \nAgenda: \nFall Science Meeting Final Agenda
URL:https://southcentralclimate.org/event/2022-fall-science-meeting/
ATTACH;FMTTYPE=image/png:https://southcentralclimate.org/wp-content/uploads/2022/05/Fall-Science-Meeting-Flyer.png
END:VEVENT
BEGIN:VEVENT
DTSTART;TZID=America/Chicago:20221116T100000
DTEND;TZID=America/Chicago:20221116T150000
DTSTAMP:20260421T151239
CREATED:20221011T185833Z
LAST-MODIFIED:20221103T151741Z
UID:7931-1668592800-1668610800@southcentralclimate.org
SUMMARY:GIS Day at OU
DESCRIPTION:Join the South Central CASC at GIS Day\, presented by The Center for Spatial Analysis. \nThere will be door prizes\, giveaways\, and cash prizes for undergraduate and graduate posters! ALL are welcome! \nMatt Davies\, our undergraduate research assistant\, will be presenting work related to the Flood Report for the Coushatta Tribe of Louisiana that he helped create. We will also be on hand with a booth\, so come out and say hi!
URL:https://southcentralclimate.org/event/gis-day-at-ou/
LOCATION:Molly Shi Boren Ballroom (OU Memorial Union)\, 900 Asp Ave\, Norman\, OK\, 73019\, United States
ATTACH;FMTTYPE=image/png:https://southcentralclimate.org/wp-content/uploads/2022/10/GISday_flyer.png
END:VEVENT
BEGIN:VEVENT
DTSTART;TZID=America/Chicago:20221117T100000
DTEND;TZID=America/Chicago:20221117T110000
DTSTAMP:20260421T151239
CREATED:20221103T150919Z
LAST-MODIFIED:20221103T150919Z
UID:7961-1668679200-1668682800@southcentralclimate.org
SUMMARY:Restoration of Coastal Wetlands in the Face of Sea-level Rise Webinar
DESCRIPTION:Restoration of Coastal Wetlands in the Face of Sea-level Rise \nNovember 17\, at 10 am – The Southern Plains Climate Science Webinar Series will have the pleasure of hosting Dr. Camille Stagg from the Wetland and Aquatic Research Center. She will present on her recently completed South Central CASC-funded project\, Understanding Impacts of Sea-Level Rise and Land Management on Critical Coastal Marsh Habitat. Join us to learn about this novel research\, which informs the Louisiana Climate Initiatives Task Force. State-of-the-art methods identified uncertainties for current and future soil carbon sequestration in the face of sea-level rise and wetlands loss. \n\nRegister in advance here:\nhttps://oklahoma.zoom.us/meeting/register/tJwvduqopjovGdGX72tqpgohmtMaP2MqzSj-
URL:https://southcentralclimate.org/event/restoration-of-coastal-wetlands-in-the-face-of-sea-level-rise-webinar/
ATTACH;FMTTYPE=image/jpeg:https://southcentralclimate.org/wp-content/uploads/2022/11/Camille-Social-Posts.jpg
END:VEVENT
END:VCALENDAR