BEGIN:VCALENDAR
VERSION:2.0
PRODID:-//South Central CASC - ECPv6.15.20//NONSGML v1.0//EN
CALSCALE:GREGORIAN
METHOD:PUBLISH
X-WR-CALNAME:South Central CASC
X-ORIGINAL-URL:https://southcentralclimate.org
X-WR-CALDESC:Events for South Central CASC
REFRESH-INTERVAL;VALUE=DURATION:PT1H
X-Robots-Tag:noindex
X-PUBLISHED-TTL:PT1H
BEGIN:VTIMEZONE
TZID:America/Chicago
BEGIN:DAYLIGHT
TZOFFSETFROM:-0600
TZOFFSETTO:-0500
TZNAME:CDT
DTSTART:20210314T080000
END:DAYLIGHT
BEGIN:STANDARD
TZOFFSETFROM:-0500
TZOFFSETTO:-0600
TZNAME:CST
DTSTART:20211107T070000
END:STANDARD
BEGIN:DAYLIGHT
TZOFFSETFROM:-0600
TZOFFSETTO:-0500
TZNAME:CDT
DTSTART:20220313T080000
END:DAYLIGHT
BEGIN:STANDARD
TZOFFSETFROM:-0500
TZOFFSETTO:-0600
TZNAME:CST
DTSTART:20221106T070000
END:STANDARD
BEGIN:DAYLIGHT
TZOFFSETFROM:-0600
TZOFFSETTO:-0500
TZNAME:CDT
DTSTART:20230312T080000
END:DAYLIGHT
BEGIN:STANDARD
TZOFFSETFROM:-0500
TZOFFSETTO:-0600
TZNAME:CST
DTSTART:20231105T070000
END:STANDARD
END:VTIMEZONE
BEGIN:VEVENT
DTSTART;VALUE=DATE:20220208
DTEND;VALUE=DATE:20220223
DTSTAMP:20260422T051226
CREATED:20220202T024033Z
LAST-MODIFIED:20220202T050013Z
UID:7091-1644278400-1645574399@southcentralclimate.org
SUMMARY:Tribal Rangeland Management and Climate Change Impacts on Rangelands
DESCRIPTION:Want to learn about Tribal Rangeland Management and Climate Change Impacts on Rangelands? Register for our free\, three-session Rangelands Workshop happening in February. Attendance is capped at 50\, so register fast!\n\n\nRegister: here.
URL:https://southcentralclimate.org/event/tribal-rangeland-management-and-climate-change-impacts-on-rangelands/
ATTACH;FMTTYPE=image/jpeg:https://southcentralclimate.org/wp-content/uploads/2022/02/RangelandsWorkshop.jpg
END:VEVENT
BEGIN:VEVENT
DTSTART;VALUE=DATE:20220215
DTEND;VALUE=DATE:20220217
DTSTAMP:20260422T051226
CREATED:20220202T025527Z
LAST-MODIFIED:20220202T050236Z
UID:7100-1644883200-1645055999@southcentralclimate.org
SUMMARY:Fifth National Climate Assessment Southern Great Plains Chapter Public Engagement Workshops
DESCRIPTION:For those interested in the U.S. National Climate Assessment\, there are 4 open sessions to provide your feedback on the Zero Order Draft (that is\, the current themes in an annotated outline) of the Southern Great Plains (KS\, OK\, TX) chapter of the 5th National Climate Assessment (NCA5). The chapter is due to be published with the full assessment report in late 2023.\n\n\n\nAt this time\, themes for each chapter are being discussed and prioritized. Our author team wants your feedback\, suggestions\, priorities\, and other input!\n\n\n\nYou may sign up for one or more sessions\, but you need to register to get the online link:\nhttps://lnkd.in/dNZ9qf3d\n\n\n(The above link lists all of the workshops. Scroll to the Southern Great Plains list on Feb 15 and 16 to register for ours.)
URL:https://southcentralclimate.org/event/fifth-national-climate-assessment-southern-great-plains-chapter-public-engagement-workshops/
ATTACH;FMTTYPE=image/jpeg:https://southcentralclimate.org/wp-content/uploads/2022/02/NCA5-SGreatPlains.jpg
END:VEVENT
BEGIN:VEVENT
DTSTART;TZID=America/Chicago:20220215T180000
DTEND;TZID=America/Chicago:20220215T200000
DTSTAMP:20260422T051226
CREATED:20220207T164043Z
LAST-MODIFIED:20220207T164043Z
UID:7129-1644948000-1644955200@southcentralclimate.org
SUMMARY:Youth Dialogue on the National Climate Assessment
DESCRIPTION:YOUTH DIALOGUE ON THE NATIONAL CLIMATE ASSESSMENT \nUniversity and high school students are invited to a special event on February 15th from 7-9pm EST to discuss the Fifth National Climate Assessment (NCA5)\, a major U.S. Government report on how climate change affects people and places in the United States. Attendees will have the chance to hear from authors of the assessment and discuss together how the report can learn from and reflect the concerns of young people in the US. \nTo register for the event please click here. To learn more about the Fifth National Climate Assessment and additional opportunities to participate\, please visit www.globalchange.gov/nca5. \nAbout the report: The National Climate Assessment is a Congressionally mandated quadrennial report led by the U.S. Global Change Research Program. The report evaluates the effects of climate change on regions and sectors of the United States and reports on trends in climate change for the next 25 to 100 years. The Fifth National Climate Assessment will highlight advances in scientific understanding of human-induced and natural processes of climate change and the resulting implications for the United States. Major themes will be presented through the lens of vulnerability\, impacts\, risks\, and adaptation. The report is expected for release in late 2023.
URL:https://southcentralclimate.org/event/youth-dialogue-on-the-national-climate-assessment/
END:VEVENT
END:VCALENDAR