BEGIN:VCALENDAR
VERSION:2.0
PRODID:-//South Central CASC - ECPv6.15.20//NONSGML v1.0//EN
CALSCALE:GREGORIAN
METHOD:PUBLISH
X-WR-CALNAME:South Central CASC
X-ORIGINAL-URL:https://southcentralclimate.org
X-WR-CALDESC:Events for South Central CASC
REFRESH-INTERVAL;VALUE=DURATION:PT1H
X-Robots-Tag:noindex
X-PUBLISHED-TTL:PT1H
BEGIN:VTIMEZONE
TZID:America/Chicago
BEGIN:DAYLIGHT
TZOFFSETFROM:-0600
TZOFFSETTO:-0500
TZNAME:CDT
DTSTART:20240310T080000
END:DAYLIGHT
BEGIN:STANDARD
TZOFFSETFROM:-0500
TZOFFSETTO:-0600
TZNAME:CST
DTSTART:20241103T070000
END:STANDARD
BEGIN:DAYLIGHT
TZOFFSETFROM:-0600
TZOFFSETTO:-0500
TZNAME:CDT
DTSTART:20250309T080000
END:DAYLIGHT
BEGIN:STANDARD
TZOFFSETFROM:-0500
TZOFFSETTO:-0600
TZNAME:CST
DTSTART:20251102T070000
END:STANDARD
BEGIN:DAYLIGHT
TZOFFSETFROM:-0600
TZOFFSETTO:-0500
TZNAME:CDT
DTSTART:20260308T080000
END:DAYLIGHT
BEGIN:STANDARD
TZOFFSETFROM:-0500
TZOFFSETTO:-0600
TZNAME:CST
DTSTART:20261101T070000
END:STANDARD
BEGIN:DAYLIGHT
TZOFFSETFROM:-0600
TZOFFSETTO:-0500
TZNAME:CDT
DTSTART:20270314T080000
END:DAYLIGHT
BEGIN:STANDARD
TZOFFSETFROM:-0500
TZOFFSETTO:-0600
TZNAME:CST
DTSTART:20271107T070000
END:STANDARD
END:VTIMEZONE
BEGIN:VEVENT
DTSTART;TZID=America/Chicago:20250923T130000
DTEND;TZID=America/Chicago:20250923T140000
DTSTAMP:20260424T030510
CREATED:20250909T155724Z
LAST-MODIFIED:20250909T155724Z
UID:10917-1758632400-1758636000@southcentralclimate.org
SUMMARY:"How High? Identifying Elevation Thresholds for Texas Coastal Marsh Restoration" Webinar
DESCRIPTION:Join us for the Beneficial Use of Dredged Materials: Insights Across Coasts Webinar Series \nThis series presents lessons learned in BUDM practice and showcases a variety of perspective\, with speakers coming from numerous backgrounds\, organizations\, and geographic areas. \nSeptember 23\, 2025\, 1 pm CT \nEmily Fromenthal (Cherokee Nation System Solutions) – “How High? Identifying Elevation Thresholds for Texas Coastal Marsh Restoration” \nRegister at the link below!
URL:https://southcentralclimate.org/event/how-high-identifying-elevation-thresholds-for-texas-coastal-marsh-restoration-webinar/
CATEGORIES:Free,Learning Opportunity,SC CASC Host,Tribal,Virtual
ATTACH;FMTTYPE=image/png:https://southcentralclimate.org/wp-content/uploads/2025/09/Webinar-Flyer-scaled.png
END:VEVENT
BEGIN:VEVENT
DTSTART;VALUE=DATE:20260519
DTEND;VALUE=DATE:20260521
DTSTAMP:20260424T030510
CREATED:20260225T170331Z
LAST-MODIFIED:20260225T170331Z
UID:11011-1779148800-1779321599@southcentralclimate.org
SUMMARY:Clean Water Act\, Section 319 Nonpoint Source (NPS) Workshop for Tribes
DESCRIPTION:Join the South Central CASC and representatives from the EPA on May 19-20\, 2026\, in Norman\, OK\, to learn about the process for treatment in a similar manner as a state (TAS) for Section 319 of CWA. \nRegistration is now open! https://forms.gle/Gih7PbodBHRd74S59
URL:https://southcentralclimate.org/event/clean-water-act-section-319-nonpoint-source-nps-workshop-for-tribes/
CATEGORIES:In-Person,Learning Opportunity,SC CASC Host,Tribal
ATTACH;FMTTYPE=image/png:https://southcentralclimate.org/wp-content/uploads/2026/02/CWA-S-319-CWA-Workshop.png
END:VEVENT
END:VCALENDAR