BEGIN:VCALENDAR
VERSION:2.0
PRODID:-//South Central CASC - ECPv6.15.20//NONSGML v1.0//EN
CALSCALE:GREGORIAN
METHOD:PUBLISH
X-ORIGINAL-URL:https://southcentralclimate.org
X-WR-CALDESC:Events for South Central CASC
REFRESH-INTERVAL;VALUE=DURATION:PT1H
X-Robots-Tag:noindex
X-PUBLISHED-TTL:PT1H
BEGIN:VTIMEZONE
TZID:America/Denver
BEGIN:DAYLIGHT
TZOFFSETFROM:-0700
TZOFFSETTO:-0600
TZNAME:MDT
DTSTART:20240310T090000
END:DAYLIGHT
BEGIN:STANDARD
TZOFFSETFROM:-0600
TZOFFSETTO:-0700
TZNAME:MST
DTSTART:20241103T080000
END:STANDARD
BEGIN:DAYLIGHT
TZOFFSETFROM:-0700
TZOFFSETTO:-0600
TZNAME:MDT
DTSTART:20250309T090000
END:DAYLIGHT
BEGIN:STANDARD
TZOFFSETFROM:-0600
TZOFFSETTO:-0700
TZNAME:MST
DTSTART:20251102T080000
END:STANDARD
BEGIN:DAYLIGHT
TZOFFSETFROM:-0700
TZOFFSETTO:-0600
TZNAME:MDT
DTSTART:20260308T090000
END:DAYLIGHT
BEGIN:STANDARD
TZOFFSETFROM:-0600
TZOFFSETTO:-0700
TZNAME:MST
DTSTART:20261101T080000
END:STANDARD
END:VTIMEZONE
BEGIN:VEVENT
DTSTART;TZID=America/Denver:20250512T120000
DTEND;TZID=America/Denver:20250512T123000
DTSTAMP:20260423T200844
CREATED:20250429T213053Z
LAST-MODIFIED:20250429T213053Z
UID:10771-1747051200-1747053000@southcentralclimate.org
SUMMARY:Southwest Drought Briefing
DESCRIPTION:Join the Southwest Climate Hub and the Southwest Drought Learning Network for this 30 min update on drought conditions and resources over the southwestern US. \nThis month Brian Fuchs\, a climatologist with the National Drought Mitigation Center\, will discuss Drought Conditions and Outlook\, \nand Tonya Haigh\, research assistant professor and social science coordinator with the National Drought Mitigation Center\, will discuss Managing Drought Risk on the Ranch \nMonday\, May 12th\, 2025\, from 12-12:30 pm MT. \nClick on the link below to register.
URL:https://southcentralclimate.org/event/southwest-drought-briefing/
LOCATION:OK
CATEGORIES:Free,Learning Opportunity,Tribal,Virtual
END:VEVENT
END:VCALENDAR