BEGIN:VCALENDAR
VERSION:2.0
PRODID:-//South Central CASC - ECPv6.15.20//NONSGML v1.0//EN
CALSCALE:GREGORIAN
METHOD:PUBLISH
X-ORIGINAL-URL:https://southcentralclimate.org
X-WR-CALDESC:Events for South Central CASC
REFRESH-INTERVAL;VALUE=DURATION:PT1H
X-Robots-Tag:noindex
X-PUBLISHED-TTL:PT1H
BEGIN:VTIMEZONE
TZID:America/Chicago
BEGIN:DAYLIGHT
TZOFFSETFROM:-0600
TZOFFSETTO:-0500
TZNAME:CDT
DTSTART:20220313T080000
END:DAYLIGHT
BEGIN:STANDARD
TZOFFSETFROM:-0500
TZOFFSETTO:-0600
TZNAME:CST
DTSTART:20221106T070000
END:STANDARD
BEGIN:DAYLIGHT
TZOFFSETFROM:-0600
TZOFFSETTO:-0500
TZNAME:CDT
DTSTART:20230312T080000
END:DAYLIGHT
BEGIN:STANDARD
TZOFFSETFROM:-0500
TZOFFSETTO:-0600
TZNAME:CST
DTSTART:20231105T070000
END:STANDARD
BEGIN:DAYLIGHT
TZOFFSETFROM:-0600
TZOFFSETTO:-0500
TZNAME:CDT
DTSTART:20240310T080000
END:DAYLIGHT
BEGIN:STANDARD
TZOFFSETFROM:-0500
TZOFFSETTO:-0600
TZNAME:CST
DTSTART:20241103T070000
END:STANDARD
END:VTIMEZONE
BEGIN:VEVENT
DTSTART;TZID=America/Chicago:20231130T100000
DTEND;TZID=America/Chicago:20231130T110000
DTSTAMP:20260421T122921
CREATED:20231024T204918Z
LAST-MODIFIED:20231024T205057Z
UID:9493-1701338400-1701342000@southcentralclimate.org
SUMMARY:Roadmap to Resilient Oyster Restoration and Aquaculture Webinar
DESCRIPTION:Did you know that resilient oyster populations are critical for functioning estuaries? They act as habitat engineers and natural water filters. However\, selecting suitable restoration and aquaculture sites for oysters to withstand a changing environment is challenging. \nThursday\, November 30\, 10:00 am CT  – Join the South Central Climate Adaptation Science Center (SC CASC) to hear from Dr. Megan La Peyre and Dr. Romain Lavaud about how the maps produced through their project\, A Roadmap for Developing Resilient Coastal Shellfish Populations: Using Spatial and Process-Based Modelling for Restoration Under Current and Predicted Future Water Quality Conditions\, can help guide resource managers in selecting sites for oyster restoration and aquaculture along the coast of Louisiana and Texas. \nRegister Here: https://oklahoma.zoom.us/meeting/register/tJUuf-igrzMsHtK4VtWwql1l-ety9dE2CKdV
URL:https://southcentralclimate.org/event/roadmap-to-resilient-oyster-restoration-and-aquaculture-webinar/
LOCATION:Zoom
ATTACH;FMTTYPE=image/jpeg:https://southcentralclimate.org/wp-content/uploads/2023/10/Webinar-Roadmap-to-Resilient-Coastal-Shellfish1-1.jpg
END:VEVENT
END:VCALENDAR