BEGIN:VCALENDAR
VERSION:2.0
PRODID:-//South Central CASC - ECPv6.15.20//NONSGML v1.0//EN
CALSCALE:GREGORIAN
METHOD:PUBLISH
X-WR-CALNAME:South Central CASC
X-ORIGINAL-URL:https://southcentralclimate.org
X-WR-CALDESC:Events for South Central CASC
REFRESH-INTERVAL;VALUE=DURATION:PT1H
X-Robots-Tag:noindex
X-PUBLISHED-TTL:PT1H
BEGIN:VTIMEZONE
TZID:America/Chicago
BEGIN:DAYLIGHT
TZOFFSETFROM:-0600
TZOFFSETTO:-0500
TZNAME:CDT
DTSTART:20220313T080000
END:DAYLIGHT
BEGIN:STANDARD
TZOFFSETFROM:-0500
TZOFFSETTO:-0600
TZNAME:CST
DTSTART:20221106T070000
END:STANDARD
BEGIN:DAYLIGHT
TZOFFSETFROM:-0600
TZOFFSETTO:-0500
TZNAME:CDT
DTSTART:20230312T080000
END:DAYLIGHT
BEGIN:STANDARD
TZOFFSETFROM:-0500
TZOFFSETTO:-0600
TZNAME:CST
DTSTART:20231105T070000
END:STANDARD
BEGIN:DAYLIGHT
TZOFFSETFROM:-0600
TZOFFSETTO:-0500
TZNAME:CDT
DTSTART:20240310T080000
END:DAYLIGHT
BEGIN:STANDARD
TZOFFSETFROM:-0500
TZOFFSETTO:-0600
TZNAME:CST
DTSTART:20241103T070000
END:STANDARD
END:VTIMEZONE
BEGIN:VEVENT
DTSTART;TZID=America/Chicago:20230926T080000
DTEND;TZID=America/Chicago:20230926T120000
DTSTAMP:20260421T092549
CREATED:20230808T215830Z
LAST-MODIFIED:20230808T215920Z
UID:9321-1695715200-1695729600@southcentralclimate.org
SUMMARY:Extreme Disturbances and Climate Change in the Southeast U.S.
DESCRIPTION:This virtual workshop is open to natural and cultural resource managers\, especially in Tribal Nations and the southern United States\, and others who want to learn more about the science of extreme disturbances\, their impact on lands and forests\, and applications for management under these threats. The presenters will focus on wild and prescribed fire\, invasive species\, storms\, flooding\, and more!
URL:https://southcentralclimate.org/event/extreme-disturbances-and-climate-change-in-the-southeast-u-s/
LOCATION:Zoom
ATTACH;FMTTYPE=image/png:https://southcentralclimate.org/wp-content/uploads/2023/08/Webinar-Sept-2023-Clickable-1.pdf-Instagram-Post-Square.png
END:VEVENT
END:VCALENDAR