BEGIN:VCALENDAR
VERSION:2.0
PRODID:-//South Central CASC - ECPv6.15.20//NONSGML v1.0//EN
CALSCALE:GREGORIAN
METHOD:PUBLISH
X-ORIGINAL-URL:https://southcentralclimate.org
X-WR-CALDESC:Events for South Central CASC
REFRESH-INTERVAL;VALUE=DURATION:PT1H
X-Robots-Tag:noindex
X-PUBLISHED-TTL:PT1H
BEGIN:VTIMEZONE
TZID:America/Chicago
BEGIN:DAYLIGHT
TZOFFSETFROM:-0600
TZOFFSETTO:-0500
TZNAME:CDT
DTSTART:20220313T080000
END:DAYLIGHT
BEGIN:STANDARD
TZOFFSETFROM:-0500
TZOFFSETTO:-0600
TZNAME:CST
DTSTART:20221106T070000
END:STANDARD
BEGIN:DAYLIGHT
TZOFFSETFROM:-0600
TZOFFSETTO:-0500
TZNAME:CDT
DTSTART:20230312T080000
END:DAYLIGHT
BEGIN:STANDARD
TZOFFSETFROM:-0500
TZOFFSETTO:-0600
TZNAME:CST
DTSTART:20231105T070000
END:STANDARD
BEGIN:DAYLIGHT
TZOFFSETFROM:-0600
TZOFFSETTO:-0500
TZNAME:CDT
DTSTART:20240310T080000
END:DAYLIGHT
BEGIN:STANDARD
TZOFFSETFROM:-0500
TZOFFSETTO:-0600
TZNAME:CST
DTSTART:20241103T070000
END:STANDARD
END:VTIMEZONE
BEGIN:VEVENT
DTSTART;VALUE=DATE:20230908
DTEND;VALUE=DATE:20230909
DTSTAMP:20260421T092725
CREATED:20230629T155925Z
LAST-MODIFIED:20230721T161000Z
UID:8755-1694131200-1694217599@southcentralclimate.org
SUMMARY:Managing for a Changing Climate Online Course
DESCRIPTION:Our highly popular Managing for a Changing Climate online course is back! We’ve spent the past year redesigning the course with busy professionals in mind! It’s free\, it’s self-paced\, and a Certificate of Completion will be offered for each course. \nRegistration is now open for the first two parts of the series – a Brief Introduction to Climate Change and a Deeper Dive into Climate Modeling. \nSign up by September 8th!\nFor more information\, contact oler@ou.edu.
URL:https://southcentralclimate.org/event/managing-for-a-changing-climate-online-course/
ATTACH;FMTTYPE=image/png:https://southcentralclimate.org/wp-content/uploads/2023/06/MCC-2023-Registration-Flyer.png
END:VEVENT
END:VCALENDAR