BEGIN:VCALENDAR
VERSION:2.0
PRODID:-//South Central CASC - ECPv6.15.20//NONSGML v1.0//EN
CALSCALE:GREGORIAN
METHOD:PUBLISH
X-ORIGINAL-URL:https://southcentralclimate.org
X-WR-CALDESC:Events for South Central CASC
REFRESH-INTERVAL;VALUE=DURATION:PT1H
X-Robots-Tag:noindex
X-PUBLISHED-TTL:PT1H
BEGIN:VTIMEZONE
TZID:America/Chicago
BEGIN:DAYLIGHT
TZOFFSETFROM:-0600
TZOFFSETTO:-0500
TZNAME:CDT
DTSTART:20220313T080000
END:DAYLIGHT
BEGIN:STANDARD
TZOFFSETFROM:-0500
TZOFFSETTO:-0600
TZNAME:CST
DTSTART:20221106T070000
END:STANDARD
BEGIN:DAYLIGHT
TZOFFSETFROM:-0600
TZOFFSETTO:-0500
TZNAME:CDT
DTSTART:20230312T080000
END:DAYLIGHT
BEGIN:STANDARD
TZOFFSETFROM:-0500
TZOFFSETTO:-0600
TZNAME:CST
DTSTART:20231105T070000
END:STANDARD
BEGIN:DAYLIGHT
TZOFFSETFROM:-0600
TZOFFSETTO:-0500
TZNAME:CDT
DTSTART:20240310T080000
END:DAYLIGHT
BEGIN:STANDARD
TZOFFSETFROM:-0500
TZOFFSETTO:-0600
TZNAME:CST
DTSTART:20241103T070000
END:STANDARD
END:VTIMEZONE
BEGIN:VEVENT
DTSTART;VALUE=DATE:20230906
DTEND;VALUE=DATE:20230908
DTSTAMP:20260421T091243
CREATED:20230608T205640Z
LAST-MODIFIED:20230719T161907Z
UID:8599-1693958400-1694131199@southcentralclimate.org
SUMMARY:Harmful Algal Bloom Training
DESCRIPTION:Registration is now open! Click here.\n\nWe will be hosting a Harmful Algal Bloom (HAB) Training this fall in Norman\, OK. \nJoin us September 6-7\, 2023 to learn more about \n1) The Science of HABs\n2) Monitoring of HABs\n3) Impacts on Agriculture and Livestock\, and
URL:https://southcentralclimate.org/event/harmful-algal-bloom-training/
ATTACH;FMTTYPE=image/png:https://southcentralclimate.org/wp-content/uploads/2023/06/HAB-Workshop-Register-Online.png
END:VEVENT
END:VCALENDAR