BEGIN:VCALENDAR
VERSION:2.0
PRODID:-//South Central CASC - ECPv6.15.20//NONSGML v1.0//EN
CALSCALE:GREGORIAN
METHOD:PUBLISH
X-WR-CALNAME:South Central CASC
X-ORIGINAL-URL:https://southcentralclimate.org
X-WR-CALDESC:Events for South Central CASC
REFRESH-INTERVAL;VALUE=DURATION:PT1H
X-Robots-Tag:noindex
X-PUBLISHED-TTL:PT1H
BEGIN:VTIMEZONE
TZID:America/Chicago
BEGIN:DAYLIGHT
TZOFFSETFROM:-0600
TZOFFSETTO:-0500
TZNAME:CDT
DTSTART:20210314T080000
END:DAYLIGHT
BEGIN:STANDARD
TZOFFSETFROM:-0500
TZOFFSETTO:-0600
TZNAME:CST
DTSTART:20211107T070000
END:STANDARD
BEGIN:DAYLIGHT
TZOFFSETFROM:-0600
TZOFFSETTO:-0500
TZNAME:CDT
DTSTART:20220313T080000
END:DAYLIGHT
BEGIN:STANDARD
TZOFFSETFROM:-0500
TZOFFSETTO:-0600
TZNAME:CST
DTSTART:20221106T070000
END:STANDARD
BEGIN:DAYLIGHT
TZOFFSETFROM:-0600
TZOFFSETTO:-0500
TZNAME:CDT
DTSTART:20230312T080000
END:DAYLIGHT
BEGIN:STANDARD
TZOFFSETFROM:-0500
TZOFFSETTO:-0600
TZNAME:CST
DTSTART:20231105T070000
END:STANDARD
END:VTIMEZONE
BEGIN:VEVENT
DTSTART;TZID=America/Chicago:20221018T160000
DTEND;TZID=America/Chicago:20221018T170000
DTSTAMP:20260421T181411
CREATED:20220930T211304Z
LAST-MODIFIED:20220930T211304Z
UID:7924-1666108800-1666112400@southcentralclimate.org
SUMMARY:How Communities Contend with Climate: Rainwater Harvesting and Restoration
DESCRIPTION:The South Central CASC’s Building Resilient Communities presents \nHow Communities Contend with Climate: Rainwater Harvesting and Restoration. \nFeaturing \nDr. Joaqui Murrieta-Saldivar\, Community Resilience to Climate Change: From Treats to Community Empowerment \nand \nFlor Sandoval\, Promoting Economic Justice in Rainwater Harvesting \nOver Zoom October 18th at 4p CT/3p MT/2p PT. \nClick here to register
URL:https://southcentralclimate.org/event/how-communities-contend-with-climate-rainwater-harvesting-and-restoration/
ATTACH;FMTTYPE=image/png:https://southcentralclimate.org/wp-content/uploads/2022/09/Resilience-CoP-Webinar-Announcement-1.png
END:VEVENT
END:VCALENDAR