BEGIN:VCALENDAR
VERSION:2.0
PRODID:-//South Central CASC - ECPv6.15.20//NONSGML v1.0//EN
CALSCALE:GREGORIAN
METHOD:PUBLISH
X-WR-CALNAME:South Central CASC
X-ORIGINAL-URL:https://southcentralclimate.org
X-WR-CALDESC:Events for South Central CASC
REFRESH-INTERVAL;VALUE=DURATION:PT1H
X-Robots-Tag:noindex
X-PUBLISHED-TTL:PT1H
BEGIN:VTIMEZONE
TZID:America/Chicago
BEGIN:DAYLIGHT
TZOFFSETFROM:-0600
TZOFFSETTO:-0500
TZNAME:CDT
DTSTART:20210314T080000
END:DAYLIGHT
BEGIN:STANDARD
TZOFFSETFROM:-0500
TZOFFSETTO:-0600
TZNAME:CST
DTSTART:20211107T070000
END:STANDARD
BEGIN:DAYLIGHT
TZOFFSETFROM:-0600
TZOFFSETTO:-0500
TZNAME:CDT
DTSTART:20220313T080000
END:DAYLIGHT
BEGIN:STANDARD
TZOFFSETFROM:-0500
TZOFFSETTO:-0600
TZNAME:CST
DTSTART:20221106T070000
END:STANDARD
BEGIN:DAYLIGHT
TZOFFSETFROM:-0600
TZOFFSETTO:-0500
TZNAME:CDT
DTSTART:20230312T080000
END:DAYLIGHT
BEGIN:STANDARD
TZOFFSETFROM:-0500
TZOFFSETTO:-0600
TZNAME:CST
DTSTART:20231105T070000
END:STANDARD
END:VTIMEZONE
BEGIN:VEVENT
DTSTART;VALUE=DATE:20220606
DTEND;VALUE=DATE:20220611
DTSTAMP:20260422T003007
CREATED:20220207T225823Z
LAST-MODIFIED:20220207T225823Z
UID:7134-1654473600-1654905599@southcentralclimate.org
SUMMARY:SCIPP Climate Adaptation Summer Academy
DESCRIPTION:SCIPP Climate Adaptation Summer Academy\n\nDate: June 06\, 2022 – June 10\, 2022\nLocation:\nThe University of Oklahoma – Norman Campus\nDescription of Event:\nThe Southern Climate Impacts Planning Program invites undergraduate students from Oklahoma\, Texas\, Arkansas\, and Louisiana to participate in a 5-day\, all-expenses-paid program designed to introduce students to the topic of climate adaptation. Climate Adaptation is the process of identifying both present and future climate effects and determining how communities can adjust to the impacts of present and future climate conditions. There is a growing demand for professionals who have the skills to work in the climate adaptation arena\, especially in the South-Central U.S.\, which is one of the most disaster-prone regions of the country. The academy will connect students with professionals in fields such as meteorology\, climate science\, geography\, and environmental sustainability\, and public administration. \nThroughout the Summer Academy\, students will hear from a variety of speakers on topics including but not limited to: climate-related hazards in the South-Central U.S.; social factors and equity in climate adaptation\, climate policy\, administrative authorities and their responsibilities\, and planning and development skills. Additionally\, students will learn about disciplines involved in climate adaptation and have the opportunity to engage with professionals who can help provide direction for those interested in pursuing a career in climate adaptation or a related field. Activities related to each topic will be incorporated throughout the academy\, and one day may include a field trip where students learn local planning practitioners’ perspectives on climate adaptation approaches in the region.\n\n  \nFor more information and registration details click here.
URL:https://southcentralclimate.org/event/scipp-climate-adaptation-summer-academy/
LOCATION:University of Oklahoma
END:VEVENT
END:VCALENDAR