BEGIN:VCALENDAR
VERSION:2.0
PRODID:-//South Central CASC - ECPv6.15.20//NONSGML v1.0//EN
CALSCALE:GREGORIAN
METHOD:PUBLISH
X-WR-CALNAME:South Central CASC
X-ORIGINAL-URL:https://southcentralclimate.org
X-WR-CALDESC:Events for South Central CASC
REFRESH-INTERVAL;VALUE=DURATION:PT1H
X-Robots-Tag:noindex
X-PUBLISHED-TTL:PT1H
BEGIN:VTIMEZONE
TZID:America/Chicago
BEGIN:DAYLIGHT
TZOFFSETFROM:-0600
TZOFFSETTO:-0500
TZNAME:CDT
DTSTART:20210314T080000
END:DAYLIGHT
BEGIN:STANDARD
TZOFFSETFROM:-0500
TZOFFSETTO:-0600
TZNAME:CST
DTSTART:20211107T070000
END:STANDARD
BEGIN:DAYLIGHT
TZOFFSETFROM:-0600
TZOFFSETTO:-0500
TZNAME:CDT
DTSTART:20220313T080000
END:DAYLIGHT
BEGIN:STANDARD
TZOFFSETFROM:-0500
TZOFFSETTO:-0600
TZNAME:CST
DTSTART:20221106T070000
END:STANDARD
BEGIN:DAYLIGHT
TZOFFSETFROM:-0600
TZOFFSETTO:-0500
TZNAME:CDT
DTSTART:20230312T080000
END:DAYLIGHT
BEGIN:STANDARD
TZOFFSETFROM:-0500
TZOFFSETTO:-0600
TZNAME:CST
DTSTART:20231105T070000
END:STANDARD
END:VTIMEZONE
BEGIN:VEVENT
DTSTART;VALUE=DATE:20220503
DTEND;VALUE=DATE:20220525
DTSTAMP:20260422T020512
CREATED:20220202T161931Z
LAST-MODIFIED:20220303T153332Z
UID:7121-1651536000-1653436799@southcentralclimate.org
SUMMARY:Fire and Climate Change Webinar Series
DESCRIPTION:Registration is now open for the upcoming Fire and Climate Change Webinar series! Register here! \nTopics include: \n\nIntersection of fire and climate change\nIndigenous fire perspectives\nLooking ahead: Climate action and resources\n\nWebinars will occur from 9:00am-10:30am central on \n\nMay 3\nMay 10\nMay 17\nMay 24\n\nEmail info@southcentralclimate.org for any questions!
URL:https://southcentralclimate.org/event/fire-and-climate-change-webinar-series/
ATTACH;FMTTYPE=image/jpeg:https://southcentralclimate.org/wp-content/uploads/2022/02/Fire-Register-Today.jpg
END:VEVENT
BEGIN:VEVENT
DTSTART;VALUE=DATE:20220516
DTEND;VALUE=DATE:20220528
DTSTAMP:20260422T020512
CREATED:20220426T213643Z
LAST-MODIFIED:20220517T190706Z
UID:7391-1652659200-1653695999@southcentralclimate.org
SUMMARY:Climate Change and Climate Adaptation Training for Grasslands Conservation Practitioners
DESCRIPTION:To learn more about the Grasslands Training events please see this page. \nNorth American grasslands are a regional priority of the U.S. Fish and Wildlife Service (FWS). The South Central CASC\, in partnership with the US FWS Science Applications Program\, the Northwest CASC\, and the North Central CASC\, will be implementing a training series for grasslands conservation practitioners starting in May 2022. Through our training series\, we will introduce practitioners to the science of climate change\, explore the impacts\, and discuss adaptation options available. \nTo this end\, we have created several pieces of training to facilitate grasslands conservation practitioners’ knowledge both online and in-person. \n\nMay 16-27\, 2022 – Introduction to the Basics of Climate Change. Designed for grasslands managers (online course). There will be a live group activity on May 27th at 2:30 pm central. Register here. \nJune 13\, 2022 (11:00 am central) – Overview of Climate Change Impacts to Grasslands Ecology (Webinar) Register here. \nJuly 2022 – Understanding and Using Future Projections for Landcover Changes (Webinar) \nAugust 2022 – Understanding and Using Future Projections for Trust Species (Webinar) \nFall 2022 – In-person Climate Adaptation Workshop (Invitation only) \n\nPlease check back for further information and registration details.
URL:https://southcentralclimate.org/event/climate-change-and-climate-adaptation-training-for-grasslands-conservation-practitioners/
ATTACH;FMTTYPE=image/png:https://southcentralclimate.org/wp-content/uploads/2022/04/Grasslands-training-slide-v233.png
END:VEVENT
END:VCALENDAR