BEGIN:VCALENDAR
VERSION:2.0
PRODID:-//South Central CASC - ECPv6.15.20//NONSGML v1.0//EN
CALSCALE:GREGORIAN
METHOD:PUBLISH
X-ORIGINAL-URL:https://southcentralclimate.org
X-WR-CALDESC:Events for South Central CASC
REFRESH-INTERVAL;VALUE=DURATION:PT1H
X-Robots-Tag:noindex
X-PUBLISHED-TTL:PT1H
BEGIN:VTIMEZONE
TZID:America/Chicago
BEGIN:DAYLIGHT
TZOFFSETFROM:-0600
TZOFFSETTO:-0500
TZNAME:CDT
DTSTART:20210314T080000
END:DAYLIGHT
BEGIN:STANDARD
TZOFFSETFROM:-0500
TZOFFSETTO:-0600
TZNAME:CST
DTSTART:20211107T070000
END:STANDARD
BEGIN:DAYLIGHT
TZOFFSETFROM:-0600
TZOFFSETTO:-0500
TZNAME:CDT
DTSTART:20220313T080000
END:DAYLIGHT
BEGIN:STANDARD
TZOFFSETFROM:-0500
TZOFFSETTO:-0600
TZNAME:CST
DTSTART:20221106T070000
END:STANDARD
BEGIN:DAYLIGHT
TZOFFSETFROM:-0600
TZOFFSETTO:-0500
TZNAME:CDT
DTSTART:20230312T080000
END:DAYLIGHT
BEGIN:STANDARD
TZOFFSETFROM:-0500
TZOFFSETTO:-0600
TZNAME:CST
DTSTART:20231105T070000
END:STANDARD
END:VTIMEZONE
BEGIN:VEVENT
DTSTART;VALUE=DATE:20220404
DTEND;VALUE=DATE:20220430
DTSTAMP:20260422T033955
CREATED:20220215T210552Z
LAST-MODIFIED:20220301T154337Z
UID:7162-1649030400-1651276799@southcentralclimate.org
SUMMARY:Managing For A Changing Climate - Climate Impacts and Adaptation (Spring 2022)
DESCRIPTION:This course\, Climate Impacts and Adaptation\, is the final in the series Managing For A Changing Climate. (The other courses are not a pre-requisite\, though encouraged). This free\, online course will be live from April 4th – April 29th. Registration is open from March 1st through April 4th. \nFor more information contact ljkerr@ou.edu. \nThis course focuses on the physical and ecological impacts of climate change\, including how climate change may impact hydrology\, polar regions\, coasts and marine systems\, and wildlife. It will also cover decision making and adaptation strategies.
URL:https://southcentralclimate.org/event/managing-for-a-changing-climate-climate-impacts-and-adaptation-spring-2022/
ATTACH;FMTTYPE=image/jpeg:https://southcentralclimate.org/wp-content/uploads/2022/02/FINALLMCCSP22-FLYER.jpg
END:VEVENT
END:VCALENDAR