BEGIN:VCALENDAR
VERSION:2.0
PRODID:-//South Central CASC - ECPv6.15.20//NONSGML v1.0//EN
CALSCALE:GREGORIAN
METHOD:PUBLISH
X-WR-CALNAME:South Central CASC
X-ORIGINAL-URL:https://southcentralclimate.org
X-WR-CALDESC:Events for South Central CASC
REFRESH-INTERVAL;VALUE=DURATION:PT1H
X-Robots-Tag:noindex
X-PUBLISHED-TTL:PT1H
BEGIN:VTIMEZONE
TZID:America/Chicago
BEGIN:DAYLIGHT
TZOFFSETFROM:-0600
TZOFFSETTO:-0500
TZNAME:CDT
DTSTART:20210314T080000
END:DAYLIGHT
BEGIN:STANDARD
TZOFFSETFROM:-0500
TZOFFSETTO:-0600
TZNAME:CST
DTSTART:20211107T070000
END:STANDARD
BEGIN:DAYLIGHT
TZOFFSETFROM:-0600
TZOFFSETTO:-0500
TZNAME:CDT
DTSTART:20220313T080000
END:DAYLIGHT
BEGIN:STANDARD
TZOFFSETFROM:-0500
TZOFFSETTO:-0600
TZNAME:CST
DTSTART:20221106T070000
END:STANDARD
BEGIN:DAYLIGHT
TZOFFSETFROM:-0600
TZOFFSETTO:-0500
TZNAME:CDT
DTSTART:20230312T080000
END:DAYLIGHT
BEGIN:STANDARD
TZOFFSETFROM:-0500
TZOFFSETTO:-0600
TZNAME:CST
DTSTART:20231105T070000
END:STANDARD
END:VTIMEZONE
BEGIN:VEVENT
DTSTART;VALUE=DATE:20220322
DTEND;VALUE=DATE:20220325
DTSTAMP:20260422T045507
CREATED:20220228T180907Z
LAST-MODIFIED:20220228T180907Z
UID:7190-1647907200-1648166399@southcentralclimate.org
SUMMARY:Integrating Remote Sensing Data for Land Management Decision-Making
DESCRIPTION:Save the date: March 22-24\, 2022.\nThe Applied Earth Observations Innovation Partnership (AEOIP) is pleased to announce its Spring virtual workshop on Integrating Remote Sensing Data for Land Management Decision-Making. The workshop aims to enable participants to build connections across the research-to-applications spectrum with subject matter experts from a variety of federal agencies and other affiliations\, and to continue to promote interagency collaboration within the Earth Observations (EO) applications field. You can expect interactive panels and guided discussion sessions that will address how to improve research-to-operations pathways and highlight new tools and techniques to promote NASA EO data uptake toward fostering successful connections between data providers and data users.  More details and registration information coming soon! \nThe AEOIP seeks to foster interagency partnerships to advance Earth Observation-based land management. Learn more about us by visiting our website at: https://pikesmeetings.wixsite.com/aeoip.
URL:https://southcentralclimate.org/event/integrating-remote-sensing-data-for-land-management-decision-making/
END:VEVENT
BEGIN:VEVENT
DTSTART;VALUE=DATE:20220322
DTEND;VALUE=DATE:20220325
DTSTAMP:20260422T045507
CREATED:20210923T023210Z
LAST-MODIFIED:20220201T230426Z
UID:6972-1647907200-1648166399@southcentralclimate.org
SUMMARY:Culturally Significant Plants Symposium
DESCRIPTION:The South Central Climate Adaptation Science Center and Chickasaw Nation will be hosting an event at the Chickasaw Retreat and Conference Center to discuss how climate change impacts culturally significant plants. Researchers and artisans in the field will be present to bring awareness to these issues. Registration details here. \n  \nWe are initiating an effort to develop collaboration around culturally significant plants research efforts across the South Central region (NM\, OK\, TX\, LA) through a research symposium. We hope that all participants will gain stronger relationships with people working on research in the region – as well as tools and products that will support your efforts. \nThis in person Kickoff Workshop will cover:\n– Artisans sharing importance of culturally significant plants \n– Overview of existing tribal culturally significant plants and climate change efforts \n– Overview of existing terrestrial ecology and climate change efforts \n– Discussions about science needs and priorities \nThe Kickoff Workshop will be a start of collaboration on culturally significant plants and climate change research. \n*MASKS ARE ENCOURAGED* \nContact April Taylor\, April.Taylor@chickasaw.net with questions.
URL:https://southcentralclimate.org/event/culturally-significant-plants-symposium/
LOCATION:The Chickasaw Nation Retreat and Conference Center\, 4205 Goddard Youth Camp Road\, Sulphur\, OK\, 73086\, United States
ATTACH;FMTTYPE=image/jpeg:https://southcentralclimate.org/wp-content/uploads/2021/09/272153460_4885076734887104_4213891667463797205_n.jpg
END:VEVENT
END:VCALENDAR